BEGIN:VCALENDAR
PRODID:-//MatrixMaxx//RemoteApi//EN
VERSION:2.0
METHOD:PUBLISH
CALSCALE:GREGORIAN
X-ORIGINAL-URL:http://www2.afpm.org/forms/meeting/Microsite/LW16
BEGIN:VEVENT
SUMMARY:2016 International Lubricants & Waxes Conference
LAST-MODIFIED:20161110
UID:ci_F2BF600000017@matrixgroup.net
CLASS:PUBLIC
CREATED:20161110
DTSTAMP:20161110
DTSTART:20161110
X-FUNAMBOL-ALLDAY:1
LOCATION:Hilton+Post+Oak
DESCRIPTION:For+full+info+see+http%3A%2F%2Fwww2.afpm.org%2Fforms%2Fmeeting%2FMicrosite%2FLW16%0A
X-WR-CALDESC:For+full+info+see+http%3A%2F%2Fwww2.afpm.org%2Fforms%2Fmeeting%2FMicrosite%2FLW16%0A
X-WR-CALNAME:Maxx Calendar
DTEND:20161112
URL:http://www2.afpm.org/forms/meeting/Microsite/LW16
END:VEVENT
END:VCALENDAR