BEGIN:VCALENDAR
PRODID:-//MatrixMaxx//RemoteApi//EN
VERSION:2.0
METHOD:PUBLISH
CALSCALE:GREGORIAN
X-ORIGINAL-URL:http://www2.afpm.org/forms/meeting/Microsite/BOW17
BEGIN:VEVENT
SUMMARY:2017 International Base Oils & Waxes Conference
LAST-MODIFIED:20170327
UID:ci_F5A4C00000636@matrixgroup.net
CLASS:PUBLIC
CREATED:20170327
DTSTAMP:20170327
DTSTART:20170327
X-FUNAMBOL-ALLDAY:1
LOCATION:Grand+Hyatt+San+Antonio
DESCRIPTION:For+full+info+see+http%3A%2F%2Fwww2.afpm.org%2Fforms%2Fmeeting%2FMicrosite%2FBOW17%0A
X-WR-CALDESC:For+full+info+see+http%3A%2F%2Fwww2.afpm.org%2Fforms%2Fmeeting%2FMicrosite%2FBOW17%0A
X-WR-CALNAME:Maxx Calendar
DTEND:20170329
URL:http://www2.afpm.org/forms/meeting/Microsite/BOW17
END:VEVENT
END:VCALENDAR